Workbook
Name _ftn1: Прейскурант!#REF!
Name _ftnref1: Прейскурант!$B$2318
Name OLE_LINK1: Прейскурант!#REF!

Sheet Прейскурант
A1: УТВЕРЖДАЮ
E2: Директор ООО МЦ "Доверие" ________ Распопова О.В.
C4: ПРАЙС
A5: Действующие (c 01.11.2024 г.) цены на исследования, выполняемые в лаборатории INVITRO.
A7: Цены указаны в рублях (не облагаются налогом на добавленную стоимость в соответствии с пп. 2 п.2
A8: ПРОГРАММЫ ЛАБОРАТОРНОГО ОБСЛЕДОВАНИЯ
A9: Код | B9: Наименование профиля исследований | F9: Сроки исполнения* | G9: Цена* | H9: КОД НМУ
A10: 11HOMA | B10: Индекс инсулинорезистентности (глюкоза, инсулин, расчетный индекс инсулинорезистентности HOMA- IR) | F10: 1 | G10: 695 | H10: =VLOOKUP(A10,[1]Прейскурант!$B$10:$I$2573,8,0) -> A09.05.056.000.01
A11: ОБС45 | B11: Анализы для детского сада и школы (Глюкоза (в крови), Анализ кала на яйца гельминтов, Анализ кала на простейшие, Анализ на энтеробиоз, Общий анализ крови (без лейкоцитарной формулы и СОЭ), СОЭ, Анализ мочи общий , Лейкоцитарная формула) | F11: 1 | G11: 1820 | H11: =VLOOKUP(A11,[1]Прейскурант!$B$10:$I$2573,8,0) -> 0
A12: ОБС46 | B12: Ежегодное профилактическое обследование (после 40 лет) (Креатинин (в крови), Мочевина (в крови), Глюкоза (в крови), Триглицериды, Холестерин общий (холестерин), Холестерин-ЛПВП, Холестерин-ЛПНП, Холестерин не-ЛПВП, Билирубин общий, Гомоцистеин, АлАТ , АсАТ , Гамма-глутамилтранспептидаза, ТТГ, Т4 свободный, Общий анализ крови (без лейкоцитарной формулы и СОЭ), СОЭ, Анализ мочи общий, Общий белок (в крови), Лейкоцитарная формула) | F12: до 2 | G12: 5300 | H12: =VLOOKUP(A12,[1]Прейскурант!$B$10:$I$2573,8,0) -> 0
A13: ОБС46NEW | B13: Ежегодная профилактика: расширенный (Общий анализ крови (ОАК), АЛТ, АСТ, Билирубин общий, Билирубин прямой, ГГТ, Глюкоза, Гликированный гемоглобин HbA1С, Креатинин, Мочевая кислота, Общий белок, Триглицериды, Холестерин общий, Холестерин ЛПВП, Холестерин ЛПНП, Кальций общий, Калий/Натрий/Хлор в сыворотке крови, Магний в сыворотке крови, Фосфор неорганический, Железо в сыворотке крови, Ферритин, Т4 свободный, ТТГ, Лейкоцитарная формула, Клубочковая фильтрация CKD-EPI, расчет) | F13: до 2 | G13: 5500 | H13: =VLOOKUP(A13,[1]Прейскурант!$B$10:$I$2573,8,0) -> #N/A
A14: ОБС47 | B14: Оценка иммунного ответа к детским инфекциям (Anti-Rubella-IgG, Антитела класса IgG Bordetella pertussis, Антитела класса IgG к вирусу кори, Антитела класса IgG эпидемического паротита, Антитела класса IgG к вирусу Varicella-Zoster, Антитела к дифтерийному анатоксину, IgG Diphtheria Toxoid IgG Antibody, Антитела к столбнячному анатоксину, IgG Tetanus Toxoid IgG Antibody, Anti-HBs) | F14: до 6 | G14: 6325 | H14: =VLOOKUP(A14,[1]Прейскурант!$B$10:$I$2573,8,0) -> 0
A15: ОБС47NEW | B15: Оценка иммунного ответа к детским инфекциям (Anti-Rubella-IgG, Антитела класса IgG к вирусу кори, количественный тест, Антитела класса IgG к вирусу Varicella-Zoster, Антитела класса IgG к вирусу эпидемического паротита, Антитела класса IgG Bordetella pertussis) | F15: до 5 | G15: 3760 | H15: =VLOOKUP(A15,[1]Прейскурант!$B$10:$I$2573,8,0) -> 0
A16: ОБС51 | B16: Профилактика заболеваний сердца и сосудов и их осложнения (Триглицериды, Холестерин общий,Холестерин-ЛПВП ,Холестерин-ЛПНП, Гомоцистеин, Высокочувствительный С-реактивный белок (кардио), Протромбин, МНО, Фибриноген, Холестерин не-ЛПВП) | F16: 1 | G16: 3250 | H16: =VLOOKUP(A16,[1]Прейскурант!$B$10:$I$2573,8,0) -> 0
A17: ОБС53 | B17: Липидный профиль расширенный (Триглицериды, Холестерин общий, Холестерин-ЛПВП , Холестерин-ЛПНП, Холестерин - ЛПОНП , Холестерин не-ЛПВП, Аполипопротеин А1, Аполипопротеин В, Липопротеин (a) (Lipoprotein (a) Lp(a)) | F17: до 2 | G17: 3120 | H17: =VLOOKUP(A17,[1]Прейскурант!$B$10:$I$2573,8,0) -> 0
A18: ОБС54 | B18: Липидный профиль скрининг (Триглицериды, Холестерин общий, Холестерин-ЛПВП, Холестерин-ЛПНП, Холестерин не-ЛПВП) | F18: 1 | G18: 800 | H18: =VLOOKUP(A18,[1]Прейскурант!$B$10:$I$2573,8,0) -> 0
A19: ОБС55 | B19: Диагностика антифосфолипидного синдрома (АФС) (Волчаночный антикоагулянт, Антитела к кардиолипину IgG, Антитела к бета-2-гликопротеину 1, суммарные IgG, IgA, IgM, Антитела к кардиолипину, IgM) | F19: до 7 | G19: 5000 | H19: =VLOOKUP(A19,[1]Прейскурант!$B$10:$I$2573,8,0) -> 0
A20: ОБС56 | B20: Обследование печени расширенное (Мочевина (в крови), Глюкоза (в крови), Холестерин общий, Билирубин общий, Билирубин прямой, АлАТ , АсАТ , Гамма-ГТ, Холинэстераза, Фосфатаза щёлочная, Протромбин, МНО, Общий белок (в крови), Anti-HCV-total , HBsAg) | F20: до 2 | G20: 2750 | H20: =VLOOKUP(A20,[1]Прейскурант!$B$10:$I$2573,8,0) -> 0
A21: ОБС57 | B21: Обследование печени скрининг (Билирубин общий, Билирубин прямой , АлАТ , АсАТ, Гамма-ГТ, Фосфатаза щёлочная) | F21: 1 | G21: 1025 | H21: =VLOOKUP(A21,[1]Прейскурант!$B$10:$I$2573,8,0) -> 0
A22: ОБС59 | B22: Диагностика аутоиммунного ГЕПАТИТА (Антитела к митохондриям Антитела к париетальным клеткам желудка. Антитела к гладкой мускулатуре, Антитела к микросомам печени и почек типа 1 (anti-LKM1), Антинуклеарный фактор (АНФ) | F22: до 7 | G22: 7370 | H22: =VLOOKUP(A22,[1]Прейскурант!$B$10:$I$2573,8,0) -> 0
A23: ОБС59NEW | B23: Скрининг аутоиммунного поражения печени (Иммуноглобулины класса М,Иммуноглобулины класса G,Антинуклеарный фактор,Антитела к митохондриям, IgG+A+M,Антитела к гладкой мускулатуре, IgG+A+M,Антитела к микросомам печени и почек, суммарно IgA+IgG+IgM) | F23: до 6 | G23: 6390 | H23: =VLOOKUP(A23,[1]Прейскурант!$B$10:$I$2573,8,0) -> 0
A24: ОБС60 | B24: Обследование ПОЧЕК расширенное (Креатинин (в крови), Мочевина (в крови), Общий белок (в моче), Альбумин (в моче). Проба Реберга, Общий анализ крови (без лейкоцитарной формулы и СОЭ), Анализ мочи общий, Общий белок (в крови), K/Na/Cl, Фосфор неорганический (в крови), Кальций общий) | F24: до 2 | G24: 2505 | H24: =VLOOKUP(A24,[1]Прейскурант!$B$10:$I$2573,8,0) -> 0
A25: ОБС60NEW | B25: Обследование почек: расширенное (Общий анализ крови, Альбумин, Креатинин, Мочевина, Мочевая кислота, Общий белок, Триглицериды, Холестерин общий, Холестерин ЛПВП, Холестерин ЛПНП, Кальций общий, Калий/Натрий/Хлор в сыворотке крови, Фосфор неорганический, Анализ мочи общий, Лейкоцитарная формула, Ретикулоциты, Альбумин, разовая порция мочи , Белок, разовая порция мочи, Концентрация в моче, Клубочковая фильтрация CKD-EPI, расчет) | F25: до 2 | G25: 4165 | H25: =VLOOKUP(A25,[1]Прейскурант!$B$10:$I$2573,8,0) -> #N/A
A26: ОБС61 | B26: Обследование ПОЧЕК: скрининг (Креатинин (в крови), Мочевина (в крови), Анализ мочи общий, Общий белок (в крови), K/Na/Cl | F26: 1 | G26: 1005 | H26: =VLOOKUP(A26,[1]Прейскурант!$B$10:$I$2573,8,0) -> 0
A27: ОБС61NEW | B27: Обследование почек: скрининг (Общий анализ крови, Креатинин, Мочевина, Мочевая кислота, Общий белок, Калий/Натрий/Хлор в сыворотке крови, Анализ мочи общий, Лейкоцитарная формула, Альбумин, разовая порция мочи, Концентрация в моче, Клубочковая фильтрация CKD-EPI, расчет) | F27: до 2 | G27: 2165 | H27: =VLOOKUP(A27,[1]Прейскурант!$B$10:$I$2573,8,0) -> #N/A
A28: ОБС62 | B28: Диагностика ЦЕЛИАКИИ: непереносимость белка злаковых (Антитела к деамидированным пептидам глиадина, IgG, Антитела к деамидированным пептидам глиадина, IgA, Антитела к ретикулину IgA и IgG, Иммуноглобулины класса A (IgA), Антитела класса IgА к тканевой трансглютаминазе, Антитела класса IgG к тканевой трансглютаминазе, Антитела к эндомизию, IgA | F28: до 7 | G28: 6595 | H28: =VLOOKUP(A28,[1]Прейскурант!$B$10:$I$2573,8,0) -> 0
A29: ОБС63 | B29: БОЛИ В СУСТАВАХ: расширенное обследование (АСЛ-О, С-реактивный белок, Ревматоидный фактор, Остеокальцин, Дезоксипиридинолин в моче (ДПИД), Паратгормон, Антитела класса IgA к антигенам Yersinia Enterocolitica, Антитела класса IgG к антигенам Yersinia Enterocolitica, Фосфор неорганический (в крови), Кальций общий, Аnti- Chlamydia tr. IgA + anti- Chlamydia tr. IgG), АЦЦП) | F29: до 3 | G29: 10835 | H29: =VLOOKUP(A29,[1]Прейскурант!$B$10:$I$2573,8,0) -> 0
A30: ОБС64 | B30: Артриты при ревматических заболеваниях (АСЛ-О, С-реактивный белок , Ревматоидный фактор, Антиядерные антитела, скрининг Antibodies against nuclear antigens, Общий анализ крови (без лейкоцитарной формулы и СОЭ), СОЭ) | F30: до 2 | G30: 2420 | H30: =VLOOKUP(A30,[1]Прейскурант!$B$10:$I$2573,8,0) -> 0
A31: ОБС64MOD | B31: Боли в суставах: скрининг (АЦЦП, АНФ, Асл-О, С-Реактивный белок, АТ к ЭНА, Ревматоидный фактор) | F31: до 7 | G31: 4985 | H31: =VLOOKUP(A31,[1]Прейскурант!$B$10:$I$2573,8,0) -> 0
A32: ОБС65 | B32: Контроль ДИАБЕТА расширенный (Креатинин (в крови), Глюкоза (в крови), Гликированный гемоглобин, Триглицериды, Холестерин общий , Холестерин-ЛПВП, Холестерин-ЛПНП, Холестерин не-ЛПВП, Гомоцистеин, Альбумин (в моче), Проба Реберга, Глюкоза (в моче)) | F32: до 2 | G32: 3740 | H32: =VLOOKUP(A32,[1]Прейскурант!$B$10:$I$2573,8,0) -> 0
A33: ОБС65NEW | B33: Контроль диабета: расширенный (Общий анализ крови ,Глюкоза (в крови),Гликированный гемоглобин,Общий белок (в крови),Билирубин общий, Триглицериды, Холестерин общий,Холестерин-ЛПВП,АлАТ, АсАТ, Клубочковая фильтрация, расчет по формуле CKD-EPI – креатинин, Мочевина (в крови),Мочевая кислота (в крови), Калий (К+, Potassium), Натрий (Na+, Sodium), Хлор (Сl-, Chloride),Анализ мочи общий,Альбумин/креатинин-соотношение в разовой порции мочи) | F33: до 2 | G33: 3925 | H33: =VLOOKUP(A33,[1]Прейскурант!$B$10:$I$2573,8,0) -> 0
A34: ОБС66 | B34: Контроль ДИАБЕТА скрининг (Глюкоза (в крови), Гликированный гемоглобин) | F34: до 2 | G34: 610 | H34: =VLOOKUP(A34,[1]Прейскурант!$B$10:$I$2573,8,0) -> 0
A35: ОБС67 | B35: ДИАБЕТ: аутоиммунные маркёры (АТ к инсулину, АТ-GAD (антитела к глутаматдекарбоксилазе), АТ к тирозинфосфатазе (IA-2) | F35: до 10 | G35: 4115 | H35: =VLOOKUP(A35,[1]Прейскурант!$B$10:$I$2573,8,0) -> 0
A36: ОБС68 | B36: Диагностика АНЕМИЙ (Трансферрин, Латентная (ненасыщенная) железосвязывающая способность сыворотки крови, Ферритин, Витамин B12, Фолиевая кислота, Общий анализ крови (без лейкоцитарной формулы и СОЭ), Ретикулоциты, Железо сыворотки, Лейкоцитарная формула) | F36: до 2 | G36: 3745 | H36: =VLOOKUP(A36,[1]Прейскурант!$B$10:$I$2573,8,0) -> 0
A37: ОБС69 | B37: ОНКОРИСК мужской: предстательная железа (ПСА общий , ПСА свободный, % соотношение ПСА/ПСА св.) | F37: 1 | G37: 910 | H37: =VLOOKUP(A37,[1]Прейскурант!$B$10:$I$2573,8,0) -> 0
A38: ОБС70 | B38: ОНКОРИСК женский: шейка матки (Цитологическое исследование биоматериала шейки матки (окрашивание по Папаниколау, Рар-тест), ВПЧ расширенный скрининг (Типы 6, 11, 16, 18, 31, 33, 35, 39, 45, 51, 52, 56, 58, 59, 68) + КВМ), (уретральный, вагинальный, цервикальный соскобы) | F38: до 4 | G38: 2460 | H38: =VLOOKUP(A38,[1]Прейскурант!$B$10:$I$2573,8,0) -> 0
A39: ОБС71 | B39: Диагностика ОСТЕОПОРОЗА (Остеокальцин, Дезоксипиридинолин в моче (ДПИД), Паратгормон, Фосфор неорганический (в крови), Кальций общий) | F39: до 2 | G39: 6430 | H39: =VLOOKUP(A39,[1]Прейскурант!$B$10:$I$2573,8,0) -> 0
A40: ОБС71NEW | B40: Лабораторная диагностика остеопороза (Фосфор неорганический, Кальций общий , Паратиреоидный гормон, β-Cross laps, Фосфатаза щелочная , Остеокальцин) | F40: до 3 | G40: 3145 | H40: =VLOOKUP(A40,[1]Прейскурант!$B$10:$I$2573,8,0) -> #N/A
A41: ОБС73 | B41: БИОХИМИЯ крови: расширенный профиль (Креатинин (в крови), Мочевина (в крови), Глюкоза (в крови), Триглицериды, Холестерин общий, Холестерин-ЛПВП, Холестерин-ЛПНП, Холестерин не-ЛПВП, Билирубин общий, Билирубин прямой , АлАТ , АсАТ, Альфа-Амилаза , Гамма-ГТ, ЛДГ , Фосфатаза щёлочная , Общий белок (в крови), K/Na/Cl, Железо сыворотки, Кальций общий) | F41: до 2 | G41: 3450 | H41: =VLOOKUP(A41,[1]Прейскурант!$B$10:$I$2573,8,0) -> 0
A42: ОБС74 | B42: БИОХИМИЯ крови: минимальный профиль (Креатинин (в крови), Мочевина (в крови), Глюкоза (в крови), Холестерин общий , Билирубин общий, Билирубин прямой , АлАТ , АсАТ , Гамма-ГТ, Фосфатаза щёлочная , Общий белок (в крови), K/Na/Cl) | F42: 1 | G42: 2060 | H42: =VLOOKUP(A42,[1]Прейскурант!$B$10:$I$2573,8,0) -> 0
...

Sheet Лист1
A3: ОБС154 | B3: ОБС154 Биохимия крови: базовый профиль (Глюкоза, Общий белок, Билирубин общий, Холестерин общий, АлАТ, АсАТ, Креатинин, Мочевая кислота) Цена:1355
A4: обс74 | B4: БИОХИМИЯ крови: минимальный профиль (Креатинин (в крови), Мочевина (в крови), Глюкоза (в крови), Холестерин общий , Билирубин общий, Билирубин прямой , АлАТ , АсАТ , Гамма-ГТ, Фосфатаза щёлочная , Общий белок (в крови), K/Na/Cl)
A5: ОБС73 | B5: БИОХИМИЯ крови: расширенный профиль (Креатинин (в крови), Мочевина (в крови), Глюкоза (в крови), Триглицериды, Холестерин общий, Холестерин-ЛПВП, Холестерин-ЛПНП, Холестерин не-ЛПВП, Билирубин общий, Билирубин прямой , АлАТ , АсАТ, Альфа-Амилаза , Гамма-ГТ, ЛДГ , Фосфатаза щёлочная , Общий белок (в крови), K/Na/Cl, Железо сыворотки, Кальций общий)
A6: ОБС79 | B6: Ежегодное ПРОФИЛАКТИЧЕСКОЕ лабораторное обследование (Креатинин (в крови), Мочевина (в крови), Глюкоза (в крови), Триглицериды, Холестерин общий, Холестерин-ЛПВП, Холестерин-ЛПНП, Холестерин не-ЛПВП, Билирубин общий, Билирубин прямой , АлАТ, АсАТ, Гамма-ГТ,Фосфатаза щёлочная, С-реактивный белок, ТТГ, Общий анализ крови (без лейкоцитарной формулы и СОЭ), СОЭ,Общий белок (в крови), Железо сыворотки, Кальций общий, Лейкоцитарная формула)
A7: ОБС200 | B7: Липидный профиль: «Здоровое сердце» (Триглицериды, Холестерол общий, Холестерол-ЛПВП)
A8: ОБС54 | B8: Липидный профиль скрининг (Триглицериды, Холестерин общий, Холестерин-ЛПВП, Холестерин-ЛПНП, Холестерин не-ЛПВП)
A9: ОБС155 | B9: Ежегодная профилактика: минимальный скрининг (Глюкоза, Холестерин общий, ТТГ)
A10: ОБС207 | B10: Щитовидная железа: минимальный (Т4 свободный, ТТГ)
A11: ОБС66 | B11: Контроль ДИАБЕТА скрининг (Глюкоза (в крови), Гликированный гемоглобин)
A12: ОБС76 | B12: ЩИТОВИДНАЯ ЖЕЛЕЗА: скрининг (ТТГ, Т4 свободный, АТ-ТПО)
A13: ОБС233 | B13: Лабораторное обследование при артериальной гипертензии (Общий анализ крови, Глюкоза, Креатинин, Холестерин общий (Холестерин), Холестерин ЛПВП, Холестерин-ЛПНП (по Фридвальду), Триглицериды (ТГ), Калий/Натрий/Хлор в сыворотке, Мочевая кислота, АЛТ, АСТ)
A14: ОБС90 | B14: ВИЧ, сифилис, гепатит В, С (Антитела к ВИЧ 1 и 2 и антиген ВИЧ 1 и 2, Сифилис RPR , Сифилис (анти-Tr. pallidum IgG/IgM), Anti-HCV-total, HBsAg)
... A25: ОБС80 | B25: ЖЕНСКИЙ ГОРМОНАЛЬНЫЙ профиль: дисфункция яичников, нарушение менструального цикла (Кортизол, ТТГ, ФСГ, ЛГ, Пролактин, Эстрадиол, ДЭА-S04, Тестостерон, ГСПГ, 17-ОН прогестерон)
